BEGIN:VCALENDAR
VERSION:2.0
PRODID:-//Holme Abbey Parish Council//Meeting Calendar//EN
CALSCALE:GREGORIAN
METHOD:PUBLISH
BEGIN:VEVENT
UID:70278-20170612@holmeabbey-pc.gov.uk
DTSTAMP:20260421T114112Z
DTSTART;VALUE=DATE:20170612
DTEND;VALUE=DATE:20170613
SUMMARY:Council Meeting &#8211\\; 12th June 2017
DESCRIPTION:Holme Abbey Parish Council Meeting\nView details: https://holmeabbey-pc.gov.uk/meetings/council-meeting-12th-june-2017/
URL:https://holmeabbey-pc.gov.uk/meetings/council-meeting-12th-june-2017/
END:VEVENT
END:VCALENDAR
