BEGIN:VCALENDAR
VERSION:2.0
PRODID:-//Holme Abbey Parish Council//Meeting Calendar//EN
CALSCALE:GREGORIAN
METHOD:PUBLISH
BEGIN:VEVENT
UID:70289-20180820@holmeabbey-pc.gov.uk
DTSTAMP:20260423T083158Z
DTSTART;VALUE=DATE:20180820
DTEND;VALUE=DATE:20180821
SUMMARY:Council Meeting &#8211\\; 20th August 2018
DESCRIPTION:Holme Abbey Parish Council Meeting\nView details: https://holmeabbey-pc.gov.uk/meetings/council-meeting-20th-august-2018/
URL:https://holmeabbey-pc.gov.uk/meetings/council-meeting-20th-august-2018/
END:VEVENT
END:VCALENDAR
