BEGIN:VCALENDAR
VERSION:2.0
PRODID:-//Holme Abbey Parish Council//Meeting Calendar//EN
CALSCALE:GREGORIAN
METHOD:PUBLISH
BEGIN:VEVENT
UID:70292-20181029@holmeabbey-pc.gov.uk
DTSTAMP:20260421T101319Z
DTSTART;VALUE=DATE:20181029
DTEND;VALUE=DATE:20181030
SUMMARY:Council Meeting &#8211\\; 29th October 2018
DESCRIPTION:Holme Abbey Parish Council Meeting\nView details: https://holmeabbey-pc.gov.uk/meetings/council-meeting-29th-october-2018/
URL:https://holmeabbey-pc.gov.uk/meetings/council-meeting-29th-october-2018/
END:VEVENT
END:VCALENDAR
