BEGIN:VCALENDAR
VERSION:2.0
PRODID:-//Holme Abbey Parish Council//Meeting Calendar//EN
CALSCALE:GREGORIAN
METHOD:PUBLISH
BEGIN:VEVENT
UID:70316-20170814@holmeabbey-pc.gov.uk
DTSTAMP:20260421T100741Z
DTSTART;VALUE=DATE:20170814
DTEND;VALUE=DATE:20170815
SUMMARY:Council Meeting &#8211\\; 14th August 2017
DESCRIPTION:Holme Abbey Parish Council Meeting\nView details: https://holmeabbey-pc.gov.uk/meetings/council-meeting-14th-august-2017-2/
URL:https://holmeabbey-pc.gov.uk/meetings/council-meeting-14th-august-2017-2/
END:VEVENT
END:VCALENDAR
