BEGIN:VCALENDAR
VERSION:2.0
PRODID:-//Holme Abbey Parish Council//Meeting Calendar//EN
CALSCALE:GREGORIAN
METHOD:PUBLISH
BEGIN:VEVENT
UID:70415-20230516@holmeabbey-pc.gov.uk
DTSTAMP:20260423T083330Z
DTSTART;VALUE=DATE:20230516
DTEND;VALUE=DATE:20230517
SUMMARY:Meeting Name Here
DESCRIPTION:Holme Abbey Parish Council Meeting\nView details: https://holmeabbey-pc.gov.uk/meetings/meeting-name-here-2/
URL:https://holmeabbey-pc.gov.uk/meetings/meeting-name-here-2/
END:VEVENT
END:VCALENDAR
