BEGIN:VCALENDAR
VERSION:2.0
PRODID:-//Holme Abbey Parish Council//Meeting Calendar//EN
CALSCALE:GREGORIAN
METHOD:PUBLISH
BEGIN:VEVENT
UID:71266-20250114@holmeabbey-pc.gov.uk
DTSTAMP:20260420T081000Z
DTSTART;VALUE=DATE:20250114
DTEND;VALUE=DATE:20250115
SUMMARY:HAPC Agenda 140125
DESCRIPTION:Holme Abbey Parish Council Meeting\nView details: https://holmeabbey-pc.gov.uk/meetings/hapc-agenda-140125/
URL:https://holmeabbey-pc.gov.uk/meetings/hapc-agenda-140125/
END:VEVENT
END:VCALENDAR
